BEGIN:VCALENDAR
PRODID: -//CFLIB.ORG//iCalUS()//EN
VERSION:2.0
METHOD:REQUEST
BEGIN:VTIMEZONE
BEGIN:STANDARD
DTSTART:20061101T020000
RRULE:FREQ=YEARLY;INTERVAL=1;BYDAY=1SU;BYMONTH=11
TZOFFSETFROM:-0400
TZOFFSETTO:-0500
TZNAME:Standard Time
END:STANDARD
BEGIN:DAYLIGHT
DTSTART:20060301T020000
RRULE:FREQ=YEARLY;INTERVAL=1;BYDAY=2SU;BYMONTH=3
TZOFFSETFROM:-0500
TZOFFSETTO:-0400
TZNAME:Daylight Savings Time
END:DAYLIGHT
END:VTIMEZONE
BEGIN:VEVENT
UID:1614273662339.CFLIB.ORG
ORGANIZER;CN=:MAILTO:
DTSTAMP:20210226T042102
DTSTART;TZID=Eastern Time:20210306T103000
DTEND;TZID=Eastern Time:20210306T113000
SUMMARY:FIRST NATIONAL REAL ESTATE WALSH & SULLIVAN - OFI/OPEN HOME - 8/57-63 Cecil Avenue, CASTLE HILL, 2154
LOCATION:8/57-63 Cecil Avenue, CASTLE HILL, 2154
DESCRIPTION:OFI/OPEN HOME - 8/57-63 Cecil Avenue, CASTLE HILL, 2154\n\nSaturday 10:30AM-11:30AM\n\nClick the link for full listing information: http://walshsullivan.com.au?/property/3431604
PRIORITY:1
TRANSP:OPAQUE
CLASS:PUBLIC
BEGIN:VALARM
TRIGGER:-PT30M
ACTION:DISPLAY
DESCRIPTION:Reminder
END:VALARM
END:VEVENT
END:VCALENDAR 