BEGIN:VCALENDAR
PRODID: -//CFLIB.ORG//iCalUS()//EN
VERSION:2.0
METHOD:REQUEST
BEGIN:VTIMEZONE
BEGIN:STANDARD
DTSTART:20061101T020000
RRULE:FREQ=YEARLY;INTERVAL=1;BYDAY=1SU;BYMONTH=11
TZOFFSETFROM:-0400
TZOFFSETTO:-0500
TZNAME:Standard Time
END:STANDARD
BEGIN:DAYLIGHT
DTSTART:20060301T020000
RRULE:FREQ=YEARLY;INTERVAL=1;BYDAY=2SU;BYMONTH=3
TZOFFSETFROM:-0500
TZOFFSETTO:-0400
TZNAME:Daylight Savings Time
END:DAYLIGHT
END:VTIMEZONE
BEGIN:VEVENT
UID:1614273699130.CFLIB.ORG
ORGANIZER;CN=:MAILTO:
DTSTAMP:20210226T042139
DTSTART;TZID=Eastern Time:20210306T140000
DTEND;TZID=Eastern Time:20210306T150000
SUMMARY:FIRST NATIONAL REAL ESTATE WALSH & SULLIVAN - PROPERTY AUCTION - 33 Disraeli Road, WINSTON HILLS, 2153
LOCATION:33 Disraeli Road, WINSTON HILLS, 2153
DESCRIPTION:PROPERTY AUCTION: 33 Disraeli Road, WINSTON HILLS, 2153\n\n\nAUCTION DATE: 6 March 2021 - 2:00PM\nAUCTION LOCATION: 33 Disraeli Road, WINSTON HILLS, 2153\n\n\nClick the link for full listing information: http://walshsullivan.com.au?/property/3431628
PRIORITY:1
TRANSP:OPAQUE
CLASS:PUBLIC
BEGIN:VALARM
TRIGGER:-PT30M
ACTION:DISPLAY
DESCRIPTION:Reminder
END:VALARM
END:VEVENT
END:VCALENDAR 