BEGIN:VCALENDAR
PRODID: -//CFLIB.ORG//iCalUS()//EN
VERSION:2.0
METHOD:REQUEST
BEGIN:VTIMEZONE
BEGIN:STANDARD
DTSTART:20061101T020000
RRULE:FREQ=YEARLY;INTERVAL=1;BYDAY=1SU;BYMONTH=11
TZOFFSETFROM:-0400
TZOFFSETTO:-0500
TZNAME:Standard Time
END:STANDARD
BEGIN:DAYLIGHT
DTSTART:20060301T020000
RRULE:FREQ=YEARLY;INTERVAL=1;BYDAY=2SU;BYMONTH=3
TZOFFSETFROM:-0500
TZOFFSETTO:-0400
TZNAME:Daylight Savings Time
END:DAYLIGHT
END:VTIMEZONE
BEGIN:VEVENT
UID:1551355368199.CFLIB.ORG
ORGANIZER;CN=:MAILTO:
DTSTAMP:20190228T230248
DTSTART;TZID=Eastern Time:20190302T101500
DTEND;TZID=Eastern Time:20190302T104500
SUMMARY:FIRST NATIONAL REAL ESTATE WALSH & SULLIVAN - OFI/OPEN HOME - 5/18 Watkins Road, BAULKHAM HILLS, 2153
LOCATION:5/18 Watkins Road, BAULKHAM HILLS, 2153
DESCRIPTION:OFI/OPEN HOME - 5/18 Watkins Road, BAULKHAM HILLS, 2153\n\nSaturday 10:15AM-10:45AM\n\nClick the link for full listing information: http://walshsullivan.com.au?/property/3335626
PRIORITY:1
TRANSP:OPAQUE
CLASS:PUBLIC
BEGIN:VALARM
TRIGGER:-PT30M
ACTION:DISPLAY
DESCRIPTION:Reminder
END:VALARM
END:VEVENT
END:VCALENDAR 