BEGIN:VCALENDAR
PRODID: -//CFLIB.ORG//iCalUS()//EN
VERSION:2.0
METHOD:REQUEST
BEGIN:VTIMEZONE
BEGIN:STANDARD
DTSTART:20061101T020000
RRULE:FREQ=YEARLY;INTERVAL=1;BYDAY=1SU;BYMONTH=11
TZOFFSETFROM:-0400
TZOFFSETTO:-0500
TZNAME:Standard Time
END:STANDARD
BEGIN:DAYLIGHT
DTSTART:20060301T020000
RRULE:FREQ=YEARLY;INTERVAL=1;BYDAY=2SU;BYMONTH=3
TZOFFSETFROM:-0500
TZOFFSETTO:-0400
TZNAME:Daylight Savings Time
END:DAYLIGHT
END:VTIMEZONE
BEGIN:VEVENT
UID:1551355386032.CFLIB.ORG
ORGANIZER;CN=:MAILTO:
DTSTAMP:20190228T230306
DTSTART;TZID=Eastern Time:20190302T151500
DTEND;TZID=Eastern Time:20190302T154500
SUMMARY:FIRST NATIONAL REAL ESTATE WALSH & SULLIVAN - OFI/OPEN HOME - 1/7 Margaret Street, NORTHMEAD, 2152
LOCATION:1/7 Margaret Street, NORTHMEAD, 2152
DESCRIPTION:OFI/OPEN HOME - 1/7 Margaret Street, NORTHMEAD, 2152\n\nSaturday 3:15PM-3:45PM\n\nClick the link for full listing information: http://walshsullivan.com.au?/property/3335552
PRIORITY:1
TRANSP:OPAQUE
CLASS:PUBLIC
BEGIN:VALARM
TRIGGER:-PT30M
ACTION:DISPLAY
DESCRIPTION:Reminder
END:VALARM
END:VEVENT
END:VCALENDAR 